BEGIN:VCALENDAR
VERSION:2.0
PRODID:-//eventon.com NONSGML v1.0//EN
CALSCALE:GREGORIAN
METHOD:PUBLISH
BEGIN:VEVENT
UID:69e58b745f3e0
DTSTAMP:20260420T021204Z
DTSTART:20260717T180000Z
DTEND:20260717T193000Z
LOCATION:Lake House Kent Maidstone Road\,  Ashford\,  Kent\,  United Kingdom TN26 1AR
SUMMARY:Reiki Meditation
DESCRIPTION:🌟SUMMER SPECIAL &#8211; Friday Night Unwind🌟 Denise &amp
 ; Lisa welcome you all to indulge in a blissful session\,  of Cacao\,  Medi
 tation &amp; Reiki. This session will be held at @lakehousekent on Friday 1
 7th July\,  7pm to 8.30pm. Please bring along a Yoga mat\,  eye pillow &amp
 ; a blanket\,  so that you[..]\nhttps://lakehousekent.co.uk/events/reiki-me
 ditation/
URL:https://lakehousekent.co.uk/events/reiki-meditation/
END:VEVENT
END:VCALENDAR