BEGIN:VCALENDAR
VERSION:2.0
PRODID:-//eventon.com NONSGML v1.0//EN
CALSCALE:GREGORIAN
METHOD:PUBLISH
BEGIN:VEVENT
UID:69e761a374dd5
DTSTAMP:20260421T113811Z
DTSTART:20260918T183000Z
DTEND:20260918T200000Z
LOCATION:Lake House Kent Maidstone Road\,  Ashford\,  Kent\,  United Kingdom TN26 1AR
SUMMARY:evening of mediumship
DESCRIPTION:An intimate evening of mediumship with Tracy Edwards. Come and 
 enjoy an evening with the spirit world. Full of fun and laughter with maybe
  some tears. As we link the two worlds together at the lovely Lake House. W
 ednesday 6th May 2026. From 7.30pm to 9.00pm £13 per person Doors open a
 t[..]\nhttps://lakehousekent.co.uk/events/evening-of-mediumship/
URL:https://lakehousekent.co.uk/events/evening-of-mediumship/
END:VEVENT
END:VCALENDAR